BEGIN:VCALENDAR
VERSION:2.0
PRODID:KKTIX
CALSCALE:GREGORIAN
METHOD:PUBLISH
BEGIN:VTIMEZONE
TZID:Asia/Taipei
END:VTIMEZONE
BEGIN:VEVENT
DTSTAMP:20260424T163435Z
UID:62b743ad-e504-4a3c-aea8-57b773053fa5
DTSTART:20260412T103000Z
DTEND:20260412T113000Z
CLASS:PUBLIC
DESCRIPTION:https://kiris.kktix.cc/events/7d27458c
LOCATION: (台北市中正區忠孝西路一段50號B3) KIRABASE北車基
 地
SUMMARY:2026.4.12 KIRIS見面會
END:VEVENT
END:VCALENDAR
